Workbook

Sheet GAA_Quarterly
A1: GAA hot-dip galvanising — quarterly processed steel tonnes
A4: Quarter | B4: Calendar year | C4: Quarter no. | D4: Galvanising tonnes | E4: FY ending (Jun)
A5: 2nd 2010 | B5: 2010 | C5: 2 | D5: 86420 | E5: =IF(C5<=2,B5,B5+1) -> 2010
A6: 3rd 2010 | B6: 2010 | C6: 3 | D6: 101800 | E6: =IF(C6<=2,B6,B6+1) -> 2011
A7: 4th 2010 | B7: 2010 | C7: 4 | D7: 106860 | E7: =IF(C7<=2,B7,B7+1) -> 2011
A8: 1st 2011 | B8: 2011 | C8: 1 | D8: 89660 | E8: =IF(C8<=2,B8,B8+1) -> 2011
A9: 2nd 2011 | B9: 2011 | C9: 2 | D9: 113960 | E9: =IF(C9<=2,B9,B9+1) -> 2011
A10: 3rd 2011 | B10: 2011 | C10: 3 | D10: 110900 | E10: =IF(C10<=2,B10,B10+1) -> 2012
A11: 4th 2011 | B11: 2011 | C11: 4 | D11: 117720 | E11: =IF(C11<=2,B11,B11+1) -> 2012
A12: 1st 2012 | B12: 2012 | C12: 1 | D12: 96360 | E12: =IF(C12<=2,B12,B12+1) -> 2012
A13: 2nd 2012 | B13: 2012 | C13: 2 | D13: 117260 | E13: =IF(C13<=2,B13,B13+1) -> 2012
A14: 3rd 2012 | B14: 2012 | C14: 3 | D14: 137800 | E14: =IF(C14<=2,B14,B14+1) -> 2013
A15: 4th 2012 | B15: 2012 | C15: 4 | D15: 112280 | E15: =IF(C15<=2,B15,B15+1) -> 2013
A16: 1st 2013 | B16: 2013 | C16: 1 | D16: 93240 | E16: =IF(C16<=2,B16,B16+1) -> 2013
... A68: 1st 2026 | B68: 2026 | C68: 1 | D68: 87523.7 | E68: =IF(C68<=2,B68,B68+1) -> 2026

Sheet Annual
A1: GAA galvanising — annual aggregation (from GAA_Quarterly)
A4: Calendar year | B4: Galvanising tonnes | C4: YoY change
A5: 2011 | B5: =SUMIFS(GAA_Quarterly!$D$5:$D$68,GAA_Quarterly!$B$5:$B$68,A5) -> 432240
A6: 2012 | B6: =SUMIFS(GAA_Quarterly!$D$5:$D$68,GAA_Quarterly!$B$5:$B$68,A6) -> 463700 | C6: =B6/B5-1 -> 0.072783639
A7: 2013 | B7: =SUMIFS(GAA_Quarterly!$D$5:$D$68,GAA_Quarterly!$B$5:$B$68,A7) -> 427907.66 | C7: =B7/B6-1 -> -0.07718857
A8: 2014 | B8: =SUMIFS(GAA_Quarterly!$D$5:$D$68,GAA_Quarterly!$B$5:$B$68,A8) -> 392509.28 | C8: =B8/B7-1 -> -0.082724343
A9: 2015 | B9: =SUMIFS(GAA_Quarterly!$D$5:$D$68,GAA_Quarterly!$B$5:$B$68,A9) -> 366380 | C9: =B9/B8-1 -> -0.06656984
A10: 2016 | B10: =SUMIFS(GAA_Quarterly!$D$5:$D$68,GAA_Quarterly!$B$5:$B$68,A10) -> 363120 | C10: =B10/B9-1 -> -0.0088978656
A11: 2017 | B11: =SUMIFS(GAA_Quarterly!$D$5:$D$68,GAA_Quarterly!$B$5:$B$68,A11) -> 375440 | C11: =B11/B10-1 -> 0.033928178
A12: 2018 | B12: =SUMIFS(GAA_Quarterly!$D$5:$D$68,GAA_Quarterly!$B$5:$B$68,A12) -> 466900 | C12: =B12/B11-1 -> 0.2436075
A13: 2019 | B13: =SUMIFS(GAA_Quarterly!$D$5:$D$68,GAA_Quarterly!$B$5:$B$68,A13) -> 411740 | C13: =B13/B12-1 -> -0.11814093
A14: 2020 | B14: =SUMIFS(GAA_Quarterly!$D$5:$D$68,GAA_Quarterly!$B$5:$B$68,A14) -> 459660 | C14: =B14/B13-1 -> 0.11638413
A15: 2021 | B15: =SUMIFS(GAA_Quarterly!$D$5:$D$68,GAA_Quarterly!$B$5:$B$68,A15) -> 471346.08 | C15: =B15/B14-1 -> 0.025423313
A16: 2022 | B16: =SUMIFS(GAA_Quarterly!$D$5:$D$68,GAA_Quarterly!$B$5:$B$68,A16) -> 487277.42 | C16: =B16/B15-1 -> 0.033799666
A17: 2023 | B17: =SUMIFS(GAA_Quarterly!$D$5:$D$68,GAA_Quarterly!$B$5:$B$68,A17) -> 453320 | C17: =B17/B16-1 -> -0.069688064
... A19: 2025 | B19: =SUMIFS(GAA_Quarterly!$D$5:$D$68,GAA_Quarterly!$B$5:$B$68,A19) -> 370838.9 | C19: =B19/B18-1 -> -0.016136951
A21: Financial year (Jul–Jun)
A22: FY ending | B22: Galvanising tonnes | C22: YoY change
A23: FY2020-21 | B23: =SUMIFS(GAA_Quarterly!$D$5:$D$68,GAA_Quarterly!$E$5:$E$68,2021) -> 448640
A24: FY2021-22 | B24: =SUMIFS(GAA_Quarterly!$D$5:$D$68,GAA_Quarterly!$E$5:$E$68,2022) -> 492906.08 | C24: =B24/B23-1 -> 0.098667261
A25: FY2022-23 | B25: =SUMIFS(GAA_Quarterly!$D$5:$D$68,GAA_Quarterly!$E$5:$E$68,2023) -> 488537.42 | C25: =B25/B24-1 -> -0.0088630678
A26: FY2023-24 | B26: =SUMIFS(GAA_Quarterly!$D$5:$D$68,GAA_Quarterly!$E$5:$E$68,2024) -> 399060 | C26: =B26/B25-1 -> -0.18315367
A27: FY2024-25 | B27: =SUMIFS(GAA_Quarterly!$D$5:$D$68,GAA_Quarterly!$E$5:$E$68,2025) -> 371821.26 | C27: =B27/B26-1 -> -0.068257255

Sheet Reconciliation
A1: Domestic FSS production — reconciliation of the three series
A4: A. Change over the PC investigation period (FY2020-21 - FY2024-25)
A5: Series | B5: FY2020-21 | C5: FY2021-22 | D5: FY2022-23 | E5: FY2023-24 | F5: FY2024-25 | G5: Change (period)
A6: PC Table B.2 — conservative | B6: 474000 | C6: 435000 | D6: 482000 | E6: 501000 | F6: 542000 | G6: =F6/B6-1 -> 0.14345992
A7: PC Table B.2 — expanded | B7: 703000 | C7: 653000 | D7: 710000 | E7: 747000 | F7: 759000 | G7: =F7/B7-1 -> 0.079658606
A8: GAA galvanising throughput | B8: =Annual!B23 -> 448640 | C8: =Annual!B24 -> 492906.08 | D8: =Annual!B25 -> 488537.42 | E8: =Annual!B26 -> 399060 | F8: =Annual!B27 -> 371821.26 | G8: =F8/B8-1 -> -0.17122579
A11: B. Change over the ASI investigation period (CY2022 - CY2024)
A12: Series | B12: CY2021 | C12: CY2022 | D12: CY2023 | E12: CY2024 | F12: Change CY22-24
A13: ASI — Australian fabricators | B13: 790000 | C13: 744000 | D13: 757000 | E13: 659000 | F13: =E13/C13-1 -> -0.11424731
A14: GAA galvanising throughput | B14: =Annual!B15 -> 471346.08 | C14: =Annual!B16 -> 487277.42 | D14: =Annual!B17 -> 453320 | E14: =Annual!B18 -> 376921.26 | F14: =E14/C14-1 -> -0.22647501
